BEGIN:VCALENDAR
VERSION:2.0
PRODID:-//Tukios.com/
BEGIN:VEVENT
UID:66df75ee-93d0-406f-aee5-040c8c878caf@www.eckersellfuneralhome.com
DTSTAMP:20260423T003106Z
DTSTART:20260427T153000Z
DTEND:20260427T164500Z
SUMMARY:Visitation
DESCRIPTION:
URL:https://www.eckersellfuneralhome.com/obituaries/deeann-arave
LOCATION:Eckersell Funeral Home 101 West Main St.  Rigby ID 83442
GEO:43.6719039;-111.9152896
END:VEVENT
END:VCALENDAR