BEGIN:VCALENDAR
VERSION:2.0
PRODID:-//Tukios.com/
BEGIN:VEVENT
UID:87f46623-d2d3-4e67-bc68-77fb60ad7f31@www.eckersellfuneralhome.com
DTSTAMP:20260423T003202Z
DTSTART:20260427T170000Z
DTEND:20260427T180000Z
SUMMARY:Funeral Service
DESCRIPTION:
URL:https://www.eckersellfuneralhome.com/obituaries/deeann-arave
LOCATION:Eckersell Funeral Home 101 West Main St.  Rigby ID 83442
GEO:43.6719039;-111.9152896
END:VEVENT
END:VCALENDAR