BEGIN:VCALENDAR
VERSION:2.0
PRODID:-//Tukios.com/
BEGIN:VEVENT
UID:5336dffb-3d15-4523-8fd6-2e597fab9a99@www.eckersellfuneralhome.com
DTSTAMP:20260426T031140Z
DTSTART:20260502T000000Z
DTEND:20260502T013000Z
SUMMARY:Visitation
DESCRIPTION:
URL:https://www.eckersellfuneralhome.com/obituaries/donald-decker
LOCATION:Rigby 2nd Ward Chapel of the Church of Jesus Christ of 
	Latter-day Saints 4021 East 300 North  Rigby ID 83442
GEO:43.6708247;-111.8998045
END:VEVENT
END:VCALENDAR