BEGIN:VCALENDAR
VERSION:2.0
PRODID:-//Tukios.com/
BEGIN:VEVENT
UID:3c6c8fa2-1629-4cec-aea0-b7a340baa901@www.eckersellfuneralhome.com
DTSTAMP:20260426T031349Z
DTSTART:20260502T153000Z
DTEND:20260502T164500Z
SUMMARY:Visitation
DESCRIPTION:
URL:https://www.eckersellfuneralhome.com/obituaries/donald-decker
LOCATION:Rigby 2nd Ward Chapel of the Church of Jesus Christ of 
	Latter-day Saints 4021 East 300 North  Rigby ID 83442
GEO:43.6708247;-111.8998045
END:VEVENT
END:VCALENDAR