BEGIN:VCALENDAR
VERSION:2.0
PRODID:-//Tukios.com/
BEGIN:VEVENT
UID:c2624b24-e80c-422b-8216-acfb3dca1cc4@www.eckersellfuneralhome.com
DTSTAMP:20260423T003835Z
DTSTART:20260427T163000Z
DTEND:20260427T173000Z
SUMMARY:Visitation
DESCRIPTION:
URL:https://www.eckersellfuneralhome.com/obituaries/reed-olsen
LOCATION: 602 Sundance Drive  Rigby ID 83442
GEO:43.6765271;-111.9315771
END:VEVENT
END:VCALENDAR