BEGIN:VCALENDAR
VERSION:2.0
PRODID:-//Tukios.com/
BEGIN:VEVENT
UID:8fa3740e-b6ee-4da9-8916-dc5612db0a48@www.eckersellfuneralhome.com
DTSTAMP:20260423T003334Z
DTSTART:20260427T180000Z
DTEND:20260427T190000Z
SUMMARY:Funeral Service
DESCRIPTION:
URL:https://www.eckersellfuneralhome.com/obituaries/reed-olsen
LOCATION: 602 Sundance Drive  Rigby ID 83442
GEO:43.6765271;-111.9315771
END:VEVENT
END:VCALENDAR